BEGIN:VCALENDAR
VERSION:2.0
PRODID:-//La Galerie d’art d’Ottawa - ECPv6.15.10//NONSGML v1.0//EN
CALSCALE:GREGORIAN
METHOD:PUBLISH
X-WR-CALNAME:La Galerie d’art d’Ottawa
X-ORIGINAL-URL:https://oaggao.ca/fr/
X-WR-CALDESC:évènements pour La Galerie d’art d’Ottawa
REFRESH-INTERVAL;VALUE=DURATION:PT1H
X-Robots-Tag:noindex
X-PUBLISHED-TTL:PT1H
BEGIN:VTIMEZONE
TZID:America/Toronto
BEGIN:DAYLIGHT
TZOFFSETFROM:-0500
TZOFFSETTO:-0400
TZNAME:EDT
DTSTART:20250309T070000
END:DAYLIGHT
BEGIN:STANDARD
TZOFFSETFROM:-0400
TZOFFSETTO:-0500
TZNAME:EST
DTSTART:20251102T060000
END:STANDARD
BEGIN:DAYLIGHT
TZOFFSETFROM:-0500
TZOFFSETTO:-0400
TZNAME:EDT
DTSTART:20260308T070000
END:DAYLIGHT
BEGIN:STANDARD
TZOFFSETFROM:-0400
TZOFFSETTO:-0500
TZNAME:EST
DTSTART:20261101T060000
END:STANDARD
BEGIN:DAYLIGHT
TZOFFSETFROM:-0500
TZOFFSETTO:-0400
TZNAME:EDT
DTSTART:20270314T070000
END:DAYLIGHT
BEGIN:STANDARD
TZOFFSETFROM:-0400
TZOFFSETTO:-0500
TZNAME:EST
DTSTART:20271107T060000
END:STANDARD
END:VTIMEZONE
BEGIN:VEVENT
DTSTART;TZID=America/Toronto:20260712T120000
DTEND;TZID=America/Toronto:20260712T150000
DTSTAMP:20260422T001910
CREATED:20260325T024121Z
LAST-MODIFIED:20260421T031200Z
UID:48941-1783857600-1783868400@oaggao.ca
SUMMARY:La Tente des arts à la journée dino des Titans d’Ottawa
DESCRIPTION:Stade d’Ottawa\, 300\, chemin Coventry\, Ottawa\, ON K1K 4P5\n\nVenez nous retrouver sous la Tente des arts à la  la journée des dinosaures des Titans d’Ottawa le 12 juillet ! La Tente des arts de la GAO est un atelier qui se déplace dans la communauté lors des mois plus cléments. Elle offre aux enfants de tous âges un environnement amical et bilingue pour explorer leur créativité. Les participants sont encouragés à dessiner\, construire des sculptures\, et faire d’autres activités pour stimuler l’imagination et la confiance artistique.  \nLes activités de la Tente des arts sont gratuites et pour toute la famille ! Les enfants doivent être accompagnés d’un adulte.  \n \n La Tente des arts est commanditée par Tigre Géant.
URL:https://oaggao.ca/fr/evenements/la-tente-des-arts-a-la-journee-dino-des-titans-dottawa/
LOCATION:Ottawa Stadium\, 300 Coventry Rd\, Ottawa\, ON\, Ottawa\, Ontario\, K1K 4P5\, Canada
CATEGORIES:Atelier
ATTACH;FMTTYPE=image/jpeg:https://oaggao.ca/wp-content/uploads/2021/11/LUT4040-scaled.jpg
ORGANIZER;CN="Ottawa Art Gallery":MAILTO:info@oaggao.ca
END:VEVENT
BEGIN:VEVENT
DTSTART;TZID=America/Toronto:20260728T104500
DTEND;TZID=America/Toronto:20260728T114500
DTSTAMP:20260422T001910
CREATED:20251128T233034Z
LAST-MODIFIED:20260205T003338Z
UID:47730-1785235500-1785239100@oaggao.ca
SUMMARY:Les conversations Art Talk
DESCRIPTION:En partenariat avec le centre The Good Companions et d’autres organismes travaillant auprès de personnes âgées\, l’équipe d’éducation et d’engagement du public de la GAO présente les conversations téléphoniques Art Talk. \nPrenez goût à l’art de la région lors de discussions animées sur les expositions variées et les collections de la GAO\, où nos guides-interprètes décrivent de manière approfondie des œuvres d’art et font découvrir leur signification. Il suffit de composer le 1-844-237-9847 pour vous joindre à la conversation et partager vos expériences de vie ou souvenirs évoqués par les œuvres dont il est question. \nLE PROGRAMME EST GRATUIT \nTout ce dont vous avez besoin est un téléphone ordinaire pour participer ! Les appels ont lieu le dernier mardi du mois à 10 h 45. \nLes conversations Art Talk sont aussi présentées dans le cadre du programme Seniors’ Centre Without Walls\, un calendrier mensuel rempli d’activités invitantes pour enrichir la vie des personnes âgées de la région. Des images d’Art Talk sont fournies par la poste aux gens qui s’inscrivent à l’avance. \nLes personnes âgées qui souhaitent participer aux prochaines conversations d’Art Talk et profiter d’opportunités similaires peuvent le faire en communiquant avec nous via ce lien (le lien mène à une page en anglais) : The Good Companions Centre
URL:https://oaggao.ca/fr/evenements/les-conversations-art-talk-4/2026-07-28/
CATEGORIES:Personnes âgées
ATTACH;FMTTYPE=image/png:https://oaggao.ca/wp-content/uploads/2023/12/Art-Talk-Website-Graphic.png
END:VEVENT
END:VCALENDAR