BEGIN:VCALENDAR
VERSION:2.0
PRODID:-//La Galerie d’art d’Ottawa - ECPv6.15.10//NONSGML v1.0//EN
CALSCALE:GREGORIAN
METHOD:PUBLISH
X-WR-CALNAME:La Galerie d’art d’Ottawa
X-ORIGINAL-URL:https://oaggao.ca/fr/
X-WR-CALDESC:évènements pour La Galerie d’art d’Ottawa
REFRESH-INTERVAL;VALUE=DURATION:PT1H
X-Robots-Tag:noindex
X-PUBLISHED-TTL:PT1H
BEGIN:VTIMEZONE
TZID:America/Toronto
BEGIN:DAYLIGHT
TZOFFSETFROM:-0500
TZOFFSETTO:-0400
TZNAME:EDT
DTSTART:20250309T070000
END:DAYLIGHT
BEGIN:STANDARD
TZOFFSETFROM:-0400
TZOFFSETTO:-0500
TZNAME:EST
DTSTART:20251102T060000
END:STANDARD
BEGIN:DAYLIGHT
TZOFFSETFROM:-0500
TZOFFSETTO:-0400
TZNAME:EDT
DTSTART:20260308T070000
END:DAYLIGHT
BEGIN:STANDARD
TZOFFSETFROM:-0400
TZOFFSETTO:-0500
TZNAME:EST
DTSTART:20261101T060000
END:STANDARD
BEGIN:DAYLIGHT
TZOFFSETFROM:-0500
TZOFFSETTO:-0400
TZNAME:EDT
DTSTART:20270314T070000
END:DAYLIGHT
BEGIN:STANDARD
TZOFFSETFROM:-0400
TZOFFSETTO:-0500
TZNAME:EST
DTSTART:20271107T060000
END:STANDARD
END:VTIMEZONE
BEGIN:VEVENT
DTSTART;TZID=America/Toronto:20260902T100000
DTEND;TZID=America/Toronto:20260902T113000
DTSTAMP:20260424T053959
CREATED:20251209T181657Z
LAST-MODIFIED:20251209T181657Z
UID:47822-1788343200-1788348600@oaggao.ca
SUMMARY:Matins bambins
DESCRIPTION:Soyez des nôtres le premier mercredi du mois dans le Studio de la Galerie d’art d’Ottawa pour les Matins bambins. Explorez le jeu créatif avec une variété d’activités qui favorisent la créativité et la résolution de problèmes chez les tout-petits et les personnes qui s’en occupent.\n\nLes Matins bambins sont animés par Wendy Moir\, guide-pédagogue à la GAO pour qui l’éducation artistique est une grande passion. Wendy enseigne la littératie visuelle dans des galeries à Kingston\, Halifax et Ottawa depuis 2003.\n\nHabillez-vous en conséquence !\n\nAUCUNE INSCRIPTION REQUISE. CETTE ACTIVITÉ EST GRATUITE.\n\nLes places sont disponibles selon l’ordre d’arrivée. Le matériel est fourni. Ce programme convient aux enfants de 0 à 4 ans. Les enfants doivent être accompagnés d’une personne adulte.\nPour plus d’informations\, envoyez un courriel à famille@oaggao.ca ou composez le 613-233-8699\, poste 242.
URL:https://oaggao.ca/fr/evenements/matins-bambins-5/2026-09-02/
LOCATION:Studio de la GAO\, 10\, avenue Daly\, Ottawa\, Ontario\, K1N 6E2\, Canada
CATEGORIES:Familles
ATTACH;FMTTYPE=image/jpeg:https://oaggao.ca/wp-content/uploads/2021/11/accessibility-childcare-header-scaled.jpg
ORGANIZER;CN="Ottawa Art Gallery":MAILTO:info@oaggao.ca
END:VEVENT
BEGIN:VEVENT
DTSTART;VALUE=DATE:20260924
DTEND;VALUE=DATE:20260928
DTSTAMP:20260424T053959
CREATED:20260305T211852Z
LAST-MODIFIED:20260306T161346Z
UID:48662-1790208000-1790553599@oaggao.ca
SUMMARY:200+ La culture au cœur
DESCRIPTION:Une fin de semaine culturelle sans pareil  \nPrésentée par : la Galerie d’art d’Ottawa\, en collaboration avec des artistes de la région\, des partenaires culturels et la Ville d’Ottawa  \nEn 2026\, Ottawa souligne ses 200 ans et pour l’occasion\, la Galerie d’art d’Ottawa invite le public à découvrir 200+ La culture au cœur\, une célébration de l’art\, de la culture et de la communauté qui se déploiera au cœur du centre-ville.  \nLa Galerie d’art d’Ottawa est ravie de proposer des expositions\, des événements\, performances\, des ateliers et créations interactives qui portent l’art au-delà de nos murs\, dans le lieu public. Ces projets exploreront ce que signifient les 200 ans d’Ottawa\, tout en reconnaissant les histoires profondes de ce territoire\, et ce avant la fondation de la ville.  \nLe « + » dans 200+ La culture au cœur nous invite à aller au-delà de cet anniversaire et met en lumière ce qui l’a précédé : la présence des peuples autochtones\, dont la culture continue d’influencer cette région aujourd’hui.  \nAu cours de l’année\, la GAO collaborera avec des artistes et des partenaires culturels pour animer le centre-ville d’Ottawa\, amplifier la présence de voix diverses et offrir des expériences inclusives et significatives tant pour les gens d’Ottawa que pour les touristes. Grâce à des commandes d’œuvres\, des projets participatifs et un engagement actif auprès des communautés\, les artistes joueront un rôle majeur dans ce moment historique.  \n200+ La culture au cœur célèbre Ottawa comme une capitale dynamique et créative\, en renforçant les liens\, en favorisant la collaboration et en misant sur le potentiel artistique et culturel de la ville.  \nLa GAO annoncera bientôt d’autres partenariats\, projets et évènements dans le cadre de 200+ La culture au cœur. Demeurez à l’écoute !  \n   
URL:https://oaggao.ca/fr/evenements/200-la-culture-au-coeur/
LOCATION:Downtown Ottawa
ATTACH;FMTTYPE=image/jpeg:https://oaggao.ca/wp-content/uploads/2024/06/LIN03694-scaled.jpg
ORGANIZER;CN="Ottawa Art Gallery":MAILTO:info@oaggao.ca
END:VEVENT
BEGIN:VEVENT
DTSTART;TZID=America/Toronto:20260924T183000
DTEND;TZID=America/Toronto:20260924T200000
DTSTAMP:20260424T053959
CREATED:20251209T190550Z
LAST-MODIFIED:20251209T190550Z
UID:47863-1790274600-1790280000@oaggao.ca
SUMMARY:Jeudis croquis
DESCRIPTION:Soyez des nôtres dans le Studio de la Galerie d’art d’Ottawa\, le dernier jeudi du mois\, pour découvrir des techniques d’art.\n\nSessions en plein air et artistes surprises vous attendent dans ce programme en constante évolution qui propose une gamme de techniques d’apprentissage et d’environnements de dessin.\n\nInscrivez-vous ici.\n\nLes matériaux sont fournis.\n\nPour plus d’information\, veuillez écrire à cstewart@oaggao.ca ou composer le 613-233-8699\, poste 242.
URL:https://oaggao.ca/fr/evenements/jeudis-croquis-6/2026-09-24/
LOCATION:Studio de la GAO\, 10\, avenue Daly\, Ottawa\, Ontario\, K1N 6E2\, Canada
CATEGORIES:Adultes
ATTACH;FMTTYPE=image/jpeg:https://oaggao.ca/wp-content/uploads/2021/11/Sketchy-Thursdays-general.jpg
ORGANIZER;CN="Ottawa Art Gallery":MAILTO:info@oaggao.ca
END:VEVENT
BEGIN:VEVENT
DTSTART;TZID=America/Toronto:20260929T104500
DTEND;TZID=America/Toronto:20260929T114500
DTSTAMP:20260424T053959
CREATED:20251128T233034Z
LAST-MODIFIED:20260205T003340Z
UID:47732-1790678700-1790682300@oaggao.ca
SUMMARY:Les conversations Art Talk
DESCRIPTION:En partenariat avec le centre The Good Companions et d’autres organismes travaillant auprès de personnes âgées\, l’équipe d’éducation et d’engagement du public de la GAO présente les conversations téléphoniques Art Talk. \nPrenez goût à l’art de la région lors de discussions animées sur les expositions variées et les collections de la GAO\, où nos guides-interprètes décrivent de manière approfondie des œuvres d’art et font découvrir leur signification. Il suffit de composer le 1-844-237-9847 pour vous joindre à la conversation et partager vos expériences de vie ou souvenirs évoqués par les œuvres dont il est question. \nLE PROGRAMME EST GRATUIT \nTout ce dont vous avez besoin est un téléphone ordinaire pour participer ! Les appels ont lieu le dernier mardi du mois à 10 h 45. \nLes conversations Art Talk sont aussi présentées dans le cadre du programme Seniors’ Centre Without Walls\, un calendrier mensuel rempli d’activités invitantes pour enrichir la vie des personnes âgées de la région. Des images d’Art Talk sont fournies par la poste aux gens qui s’inscrivent à l’avance. \nLes personnes âgées qui souhaitent participer aux prochaines conversations d’Art Talk et profiter d’opportunités similaires peuvent le faire en communiquant avec nous via ce lien (le lien mène à une page en anglais) : The Good Companions Centre
URL:https://oaggao.ca/fr/evenements/les-conversations-art-talk-4/2026-09-29/
CATEGORIES:Personnes âgées
ATTACH;FMTTYPE=image/png:https://oaggao.ca/wp-content/uploads/2023/12/Art-Talk-Website-Graphic.png
END:VEVENT
END:VCALENDAR